<?xml version="1.0" encoding="utf-8"?>
    <TileMap version="1.0.0" tilemapservice="http://tms.osgeo.org/1.0.0">
      <Title>20180610huazhong.tiff</Title>
      <Abstract></Abstract>
      <SRS>EPSG:3857</SRS>
      <BoundingBox minx="114.33092662501333" miny="30.46286018776641" maxx="114.36664347834760" maxy="30.48449149028613"/>
      <Origin x="114.33092662501333" y="30.46286018776641"/>
      <TileFormat width="256" height="256" mime-type="image/tiff" extension="tiff"/>
      <TileSets profile="mercator">
        <TileSet href="13" units-per-pixel="19.10925706787109" order="13"/>
        <TileSet href="14" units-per-pixel="9.55462853393555" order="14"/>
        <TileSet href="15" units-per-pixel="4.77731426696777" order="15"/>
        <TileSet href="16" units-per-pixel="2.38865713348389" order="16"/>
      </TileSets>
    </TileMap>
    