<?xml version="1.0" encoding="utf-8"?>
    <TileMap version="1.0.0" tilemapservice="http://tms.osgeo.org/1.0.0">
      <Title>2023-01-16.tiff</Title>
      <Abstract></Abstract>
      <SRS>EPSG:3857</SRS>
      <BoundingBox minx="121.62527000379943" miny="40.85966781714420" maxx="131.31400052181664" maxy="46.30136891215620"/>
      <Origin x="121.62527000379943" y="40.85966781714420"/>
      <TileFormat width="256" height="256" mime-type="image/tiff"
      extension="tiff"/>
      <TileSets profile="mercator">
        <TileSet href="0" units-per-pixel="156543.03390000000945" order="0"/>
        <TileSet href="1" units-per-pixel="78271.51695000000473" order="1"/>
        <TileSet href="2" units-per-pixel="39135.75847500000236" order="2"/>
        <TileSet href="3" units-per-pixel="19567.87923750000118" order="3"/>
        <TileSet href="4" units-per-pixel="9783.93961875000059" order="4"/>
        <TileSet href="5" units-per-pixel="4891.96980937500030" order="5"/>
        <TileSet href="6" units-per-pixel="2445.98490468750015" order="6"/>
        <TileSet href="7" units-per-pixel="1222.99245234375007" order="7"/>
        <TileSet href="8" units-per-pixel="611.49622617187504" order="8"/>
        <TileSet href="9" units-per-pixel="305.74811308593752" order="9"/>
      </TileSets>
    </TileMap>
    